BEGIN:VCALENDAR
VERSION:2.0
PRODID:-//www.cymohio.org//NONSGML kigkonsult.se iCalcreator 2.30.10//
CALSCALE:GREGORIAN
METHOD:PUBLISH
UID:9a1b886c-dcd6-42ac-9941-bfd291165c50
X-WR-CALDESC:The event will be held on Sunday\, April 27th\, with a cost of
  $35.00 per bowler\, which includes two hours of bowling\, shoe rental\, a
  t-shirt\, door prize entry\, and access to a dessert/snack bar.  Particip
 ants can also collect pledges and donations to compete for prizes.  The to
 p bowlers collecting the most pledges and donations will have a chance to 
 win gift cards and other prizes.  The top three bowlers and top three team
 s collecting the most pledge donations will be awarded trophies. \n\n
X-WR-RELCALID:3028443de3cbb4909aceb6469258ccb0
X-WR-TIMEZONE:America/New_York
BEGIN:VTIMEZONE
TZID:America/New_York
BEGIN:STANDARD
TZNAME:EST
DTSTART:20241103T020000
TZOFFSETFROM:-0400
TZOFFSETTO:-0500
RDATE:20251102T020000
END:STANDARD
BEGIN:DAYLIGHT
TZNAME:EDT
DTSTART:20250309T020000
TZOFFSETFROM:-0500
TZOFFSETTO:-0400
RDATE:20260308T020000
END:DAYLIGHT
END:VTIMEZONE
BEGIN:VEVENT
UID:a5d0e6a7-3e8b-4301-be1f-c341ee693d91
DTSTAMP:20260424T055012Z
DESCRIPTION:The event will be held on Sunday\, April 27th\, with a cost of 
 $35.00 per bowler\, which includes two hours of bowling\, shoe rental\, a 
 t-shirt\, door prize entry\, and access to a dessert/snack bar.  Participa
 nts can also collect pledges and donations to compete for prizes.  The top
  bowlers collecting the most pledges and donations will have a chance to w
 in gift cards and other prizes.  The top three bowlers and top three teams
  collecting the most pledge donations will be awarded trophies. \n\n
DTSTART;TZID=America/New_York:20250427T120000
DTEND;TZID=America/New_York:20250427T160000
LOCATION:1935 Cleveland Road West\, Sandusky\, OH 44870 US
SUMMARY:29th Annual Bowl for Kids' Mentoring
END:VEVENT
END:VCALENDAR
