BEGIN:VCALENDAR
VERSION:2.0
PRODID:-//www.cymohio.org//NONSGML kigkonsult.se iCalcreator 2.30.10//
CALSCALE:GREGORIAN
METHOD:PUBLISH
UID:7751a78d-7934-4329-93a6-9a015a2d6e2f
X-WR-CALDESC:Help support Community Youth Mentoring children enrolled in ou
 r School Buddies and Traditional One-to-One Mentoring Program.  You can he
 lp make 'All Kids Count' and support our Holiday Visa Card Raffle! Have a 
 chance\, 3 tickets for $5.00 or 8 tickets for $10.00\, to win a $500 Visa 
 Gift Card to use at any stores of your choice for your holiday shopping.  
  We will also be giving away a $100 Visa card for 2nd place and a $50 Visa
  Card for 3rd place.  The drawing will be held at our office on Tuesday\, 
 December 17th.  Winners will be notified by phone.  Please make sure to in
 clude your phone number on all ticket stubs.\n\nIf you would like addition
 al tickets\, please visit our Facebook page @CommunityYouthMentoring or ca
 ll our office at 419.626.8694
X-WR-RELCALID:fd9ca5dfd102465899f0babe04539ef7
X-WR-TIMEZONE:America/New_York
BEGIN:VTIMEZONE
TZID:America/New_York
BEGIN:STANDARD
TZNAME:EST
DTSTART:20191103T020000
TZOFFSETFROM:-0400
TZOFFSETTO:-0500
RDATE:20201101T020000
END:STANDARD
BEGIN:DAYLIGHT
TZNAME:EDT
DTSTART:20190310T020000
TZOFFSETFROM:-0500
TZOFFSETTO:-0400
RDATE:20200308T020000
RDATE:20210314T020000
END:DAYLIGHT
END:VTIMEZONE
BEGIN:VEVENT
UID:d6ed57fd-9682-4043-a880-e1e66825d8f8
DTSTAMP:20260423T220412Z
DESCRIPTION:Help support Community Youth Mentoring children enrolled in our
  School Buddies and Traditional One-to-One Mentoring Program.  You can hel
 p make 'All Kids Count' and support our Holiday Visa Card Raffle! Have a c
 hance\, 3 tickets for $5.00 or 8 tickets for $10.00\, to win a $500 Visa G
 ift Card to use at any stores of your choice for your holiday shopping.   
 We will also be giving away a $100 Visa card for 2nd place and a $50 Visa 
 Card for 3rd place.  The drawing will be held at our office on Tuesday\, D
 ecember 17th.  Winners will be notified by phone.  Please make sure to inc
 lude your phone number on all ticket stubs.\n\nIf you would like additiona
 l tickets\, please visit our Facebook page @CommunityYouthMentoring or cal
 l our office at 419.626.8694
DTSTART;TZID=America/New_York:20191112T143000
DTEND;TZID=America/New_York:20191217T120000
LOCATION:
SUMMARY:$500 Holiday Visa Card Raffle
END:VEVENT
END:VCALENDAR
